BEGIN:VCALENDAR
VERSION:2.0
PRODID:-//Quartettverein-Heisterschoss e.V. 1907 - ECPv6.15.20//NONSGML v1.0//EN
CALSCALE:GREGORIAN
METHOD:PUBLISH
X-WR-CALNAME:Quartettverein-Heisterschoss e.V. 1907
X-ORIGINAL-URL:https://www.quartettverein-heisterschoss.de
X-WR-CALDESC:Veranstaltungen für Quartettverein-Heisterschoss e.V. 1907
REFRESH-INTERVAL;VALUE=DURATION:PT1H
X-Robots-Tag:noindex
X-PUBLISHED-TTL:PT1H
BEGIN:VTIMEZONE
TZID:Europe/Berlin
BEGIN:DAYLIGHT
TZOFFSETFROM:+0100
TZOFFSETTO:+0200
TZNAME:CEST
DTSTART:20250330T010000
END:DAYLIGHT
BEGIN:STANDARD
TZOFFSETFROM:+0200
TZOFFSETTO:+0100
TZNAME:CET
DTSTART:20251026T010000
END:STANDARD
BEGIN:DAYLIGHT
TZOFFSETFROM:+0100
TZOFFSETTO:+0200
TZNAME:CEST
DTSTART:20260329T010000
END:DAYLIGHT
BEGIN:STANDARD
TZOFFSETFROM:+0200
TZOFFSETTO:+0100
TZNAME:CET
DTSTART:20261025T010000
END:STANDARD
BEGIN:DAYLIGHT
TZOFFSETFROM:+0100
TZOFFSETTO:+0200
TZNAME:CEST
DTSTART:20270328T010000
END:DAYLIGHT
BEGIN:STANDARD
TZOFFSETFROM:+0200
TZOFFSETTO:+0100
TZNAME:CET
DTSTART:20271031T010000
END:STANDARD
END:VTIMEZONE
BEGIN:VEVENT
DTSTART;TZID=Europe/Berlin:20260501T130000
DTEND;TZID=Europe/Berlin:20260501T130000
DTSTAMP:20260422T131452
CREATED:20260422T071453Z
LAST-MODIFIED:20260422T071521Z
UID:16720-1777640400-1777640400@www.quartettverein-heisterschoss.de
SUMMARY:Maiclub
DESCRIPTION:
URL:https://www.quartettverein-heisterschoss.de/event/maiclub/
LOCATION:Maiclub\, Germany
END:VEVENT
END:VCALENDAR